BEGIN:VCALENDAR
VERSION:2.0
PRODID:-//queerGottesdienst München - ECPv5.9.0//NONSGML v1.0//EN
CALSCALE:GREGORIAN
METHOD:PUBLISH
X-WR-CALNAME:queerGottesdienst München
X-ORIGINAL-URL:https://www.queergd.de
X-WR-CALDESC:Veranstaltungen für queerGottesdienst München
BEGIN:VTIMEZONE
TZID:Europe/Berlin
BEGIN:DAYLIGHT
TZOFFSETFROM:+0100
TZOFFSETTO:+0200
TZNAME:CEST
DTSTART:20260329T010000
END:DAYLIGHT
BEGIN:STANDARD
TZOFFSETFROM:+0200
TZOFFSETTO:+0100
TZNAME:CET
DTSTART:20261025T010000
END:STANDARD
END:VTIMEZONE
BEGIN:VEVENT
DTSTART;TZID=Europe/Berlin:20261213T190000
DTEND;TZID=Europe/Berlin:20261213T190000
DTSTAMP:20260425T232409
CREATED:20260304T112732Z
LAST-MODIFIED:20260304T112733Z
UID:45203-1797188400-1797188400@www.queergd.de
SUMMARY:queerGottesdienst
DESCRIPTION:mit Br. Markus Fuhrmann und Michael \n\n\n\nThekendienst: David und Sven
URL:https://www.queergd.de/termin/queergottesdienst-64/
LOCATION:St.-Paul an der Theresienwiese\, St.-Pauls-Platz 11\, 80336 München\, Deutschland
END:VEVENT
END:VCALENDAR