BEGIN:VCALENDAR
VERSION:2.0
PRODID:-//queerGottesdienst München - ECPv5.9.0//NONSGML v1.0//EN
CALSCALE:GREGORIAN
METHOD:PUBLISH
X-WR-CALNAME:queerGottesdienst München
X-ORIGINAL-URL:https://www.queergd.de
X-WR-CALDESC:Veranstaltungen für queerGottesdienst München
BEGIN:VTIMEZONE
TZID:Europe/Berlin
BEGIN:DAYLIGHT
TZOFFSETFROM:+0100
TZOFFSETTO:+0200
TZNAME:CEST
DTSTART:20260329T010000
END:DAYLIGHT
BEGIN:STANDARD
TZOFFSETFROM:+0200
TZOFFSETTO:+0100
TZNAME:CET
DTSTART:20261025T010000
END:STANDARD
END:VTIMEZONE
BEGIN:VEVENT
DTSTART;TZID=Europe/Berlin:20260624T190000
DTEND;TZID=Europe/Berlin:20260624T230000
DTSTAMP:20260425T124849
CREATED:20260304T114643Z
LAST-MODIFIED:20260304T114644Z
UID:45246-1782327600-1782342000@www.queergd.de
SUMMARY:queerTheke im Sub
DESCRIPTION:Jeden vierten Mittwoch machen wir Thekendienst im Sub und sind ansprechbar rund um das Thema katholischer queerGottesdienst in München oder auch zu anderen Fragen\, die Dich beschäftigen.
URL:https://www.queergd.de/termin/queertheke-im-sub-8/
LOCATION:Sub &#8211; Schwules Kommunikations- und Kulturzentrum München e.V.\, Müllerstr. 14\, 80469 München\, Deutschland
END:VEVENT
END:VCALENDAR